BEGIN:VCALENDAR
VERSION:2.0
PRODID:-//CPA Rajasthan - ECPv4.5.4//NONSGML v1.0//EN
CALSCALE:GREGORIAN
METHOD:PUBLISH
X-WR-CALNAME:CPA Rajasthan
X-ORIGINAL-URL:http://cparajasthan.com
X-WR-CALDESC:Events for CPA Rajasthan
BEGIN:VEVENT
DTSTART;VALUE=DATE:20190323
DTEND;VALUE=DATE:20190324
DTSTAMP:20260419T125814
CREATED:20190228T101917Z
LAST-MODIFIED:20240719T063211Z
UID:1773-1553299200-1553471999@cparajasthan.com
SUMMARY:Babylon - ARCA Under - 7 State Chess Tournament
DESCRIPTION:CPA Rajasthan Under Catch Them Young announces\nBabylon-ARCA U7 STATE CHESS Championship in association with\n“Neerja Modi School“ on\nDate:- 23-24 Mar 2019\n\nVenue: Neerja Modi School\,Shipra Path\,Mansarover Jaipur\, entry gate no.5\nAt DOME (A/C hall)\nRegistration :- https://goo.gl/4mu1jr\nEntry fee for tournament : Rs 350 /-\nARCA registration for year 19-20 :- 150/- For details kindly log on www.cparajasthan.com\nCategory :- TWO ( OPEN AND GIRLS )\nChief Arbitor :- IA BP Sharma\n6 Rounds. Two Day Tournament\n\nTime Control: 25 Min 10 Sec\nScholarship of Rs. 5000 each to first 2 boys and 2 girls upon participation in U7 National Chess Tournament at Kolkata from 30th May 2019\n(Trophies and medals for top Five Players and certificates to all participants)\n\nEntry fee can be deposited only through PAYUMONEY/ NEFT/IMPS / Cheque / Demand Draft.\n\nACCOUNT Name: Chess Parents Association Rajasthan\n\nACCOUNT NO. :001205034074\n\nIFSC CODE: ICIC0000012\nICICI Bank Ltd\n*Ashok Marg\, Jaipur\n\nEntries Will be accepted up to 7 pm on 18 Mar 2019\nContact no for registration:-\n\nPushpendra Choudhary 9414072365\nRakesh Garg +91 81078 63647\nAmit Gupta 94143349001\nLalit Bharadia 9829124065\n\nTournament Director:-\n\nMr.Yogendra Rathore\n*(VP ARCA)*8209044418\n\nOrganizing Secretary:-\n\nMr. Rajender Arora\n9352302829
URL:http://cparajasthan.com/tournament/babylons-cpa-under-7-state-chess-tournament/
END:VEVENT
END:VCALENDAR