BEGIN:VCALENDAR
VERSION:2.0
PRODID:-//CPA Rajasthan - ECPv4.5.4//NONSGML v1.0//EN
CALSCALE:GREGORIAN
METHOD:PUBLISH
X-WR-CALNAME:CPA Rajasthan
X-ORIGINAL-URL:http://cparajasthan.com
X-WR-CALDESC:Events for CPA Rajasthan
BEGIN:VEVENT
DTSTART;VALUE=DATE:20200419
DTEND;VALUE=DATE:20200419
DTSTAMP:20260419T155843
CREATED:20200419T065631Z
LAST-MODIFIED:20200419T065748Z
UID:1877-1587254400-1587340799@cparajasthan.com
SUMMARY:CPA Beats Corona-II Arena
DESCRIPTION:CHESS PARENTS ASSOCIATION RAJASTHAN INVITES\nTournament Name : CPA Beats Corona-II Arena \nTournament Link: https://lichess.org/tournament/bQCy42qf\nEntry Free\nDate: 19/04/2020\nTime: 03.00 PM to 4.30 PM\n* Time Control: 3+2*\nPRIZE FUND - Rs. 1000/-\n1st – Rs. 300/-\n2nd – Rs. 200/-\n3rd – Rs. 100/-\n4th  to 11th  – Rs. 50/-\n* Note :* \n*1. For claiming the prize please contact Rajender Arora at 9352302829\n2. If any Player is found using the assistance software or engine\, will be disqualified for the Prize List and.\n3. All Amount are in Indian Rupee and can be paid only through Paytm or Google Pay.\n4. Payment of Prize Fund can be Settled within 2 days.\n5. For Any other Query  or Assistant contact Pushpendra at 9414072365
URL:http://cparajasthan.com/tournament/cpa-beats-corona-ii-arena/
END:VEVENT
END:VCALENDAR