BEGIN:VCALENDAR
VERSION:2.0
PRODID:-//CPA Rajasthan - ECPv4.5.4//NONSGML v1.0//EN
CALSCALE:GREGORIAN
METHOD:PUBLISH
X-WR-CALNAME:CPA Rajasthan
X-ORIGINAL-URL:http://cparajasthan.com
X-WR-CALDESC:Events for CPA Rajasthan
BEGIN:VEVENT
DTSTART;VALUE=DATE:20240529
DTEND;VALUE=DATE:20240602
DTSTAMP:20260420T002746
CREATED:20240615T082654Z
LAST-MODIFIED:20240615T083506Z
UID:2068-1716940800-1717372799@cparajasthan.com
SUMMARY:Jaipur Fide Rating tournament
DESCRIPTION:\n\nName of event \nJaipur Fide Rating Tournament \nDates \n29 May to 02 June 2024\nVenue \nAMAR Palace Hotel \nEvent Coordinator\nJayender Chaturvedi\n\n\n\n\n\n \n
URL:http://cparajasthan.com/tournament/jaipur-fide-rating-tournament/
END:VEVENT
END:VCALENDAR