BEGIN:VCALENDAR
VERSION:2.0
PRODID:-//CPA Rajasthan - ECPv4.5.4//NONSGML v1.0//EN
CALSCALE:GREGORIAN
METHOD:PUBLISH
X-WR-CALNAME:CPA Rajasthan
X-ORIGINAL-URL:http://cparajasthan.com
X-WR-CALDESC:Events for CPA Rajasthan
BEGIN:VEVENT
DTSTART;VALUE=DATE:20240330
DTEND;VALUE=DATE:20240330
DTSTAMP:20260419T173939
CREATED:20240615T080722Z
LAST-MODIFIED:20240615T081614Z
UID:2042-1711756800-1711843199@cparajasthan.com
SUMMARY:Prepladder CPA-RUHS CHESS TOURNAMENT
DESCRIPTION:\n\nName of event \nPrepladder CPA-RUHS CHESS TOURNAMENT\nDates \n3/30/2024\nVenue \nRUHS College of Medical Science\nEvent Coordinator\nDR. LOKENDER SHARMA\n\n\n\n\n\n\n\n
URL:http://cparajasthan.com/tournament/prepladder-cpa-ruhs-chess-tournament/
END:VEVENT
END:VCALENDAR