BEGIN:VCALENDAR
VERSION:2.0
PRODID:-//CPA Rajasthan - ECPv4.5.4//NONSGML v1.0//EN
CALSCALE:GREGORIAN
METHOD:PUBLISH
X-WR-CALNAME:CPA Rajasthan
X-ORIGINAL-URL:http://cparajasthan.com
X-WR-CALDESC:Events for CPA Rajasthan
BEGIN:VEVENT
DTSTART;VALUE=DATE:20240516
DTEND;VALUE=DATE:20240516
DTSTAMP:20260419T223714
CREATED:20240615T084019Z
LAST-MODIFIED:20240615T084019Z
UID:2080-1715817600-1715903999@cparajasthan.com
SUMMARY:Press conference at press club jaipur
DESCRIPTION:\n\nName of event \nPress Conference at Press Club Jaipur\nDates \n5/16/2024\nVenue \nPink City Press Club\nEvent Coordinator\nRajender Arora \n\n\n\n\n\n\n
URL:http://cparajasthan.com/tournament/press-conference-at-press-club-jaipur/
END:VEVENT
END:VCALENDAR