BEGIN:VCALENDAR
VERSION:2.0
PRODID:-//CPA Rajasthan - ECPv4.5.4//NONSGML v1.0//EN
CALSCALE:GREGORIAN
METHOD:PUBLISH
X-WR-CALNAME:CPA Rajasthan
X-ORIGINAL-URL:http://cparajasthan.com
X-WR-CALDESC:Events for CPA Rajasthan
BEGIN:VEVENT
DTSTART;VALUE=DATE:20200102
DTEND;VALUE=DATE:20200104
DTSTAMP:20260419T142546
CREATED:20191223T052149Z
LAST-MODIFIED:20191223T052447Z
UID:1841-1577923200-1578182399@cparajasthan.com
SUMMARY:Shri Maheshwari Navyuvak Mandal Open Team Chess Championship supported by CPA Rajasthan
DESCRIPTION:CPA Rajasthan announces *New Year Bonanza* Shri Maheshwari Navyuvak Mandal Open Team Chess Championship supported by CPA Rajasthan On  Date: 2-4 Jan 2020\n\n\nVenue: MPS International School Tilak Nagar Jaipur (A/C hall)\n\n\n\nRegistration :- http://bit.ly/2qlzGI4\n\n\nEntry fee for teams of 4-6 players* : Rs 10000/-for Corporate and Rs 2000/-for NGO/CLUBS and 1000/- for Schools and CPA Members\nFor details kindly log on www.cparajasthan.com\n\n Chief Arbitor :-Pushpender Chaudhary\n\n\n 6 Rounds. Three Day Tournament\n\nTime Control: *60 Min 30 Sec*\n\n *total Prize fund 40000 /- \, Late Justice D M Bhandari Memorial running trophy for winner Team*\n(Trophies and medals for top three teams & trophies for top three on Boards and certificates to all participants)\n\n*Entry fee can be deposited only through NEFT/IMPS / Cheque / Demand Draft/ payumoney/ credit card/ UPI/ *\n\n*ACCOUNT Name: Chess Parents Association Rajasthan*\n*ACCOUNT NO. :001205034074*\n*IFSC CODE: ICIC0000012*\n*ICICI Bank Ltd*\n*Ashok marg jaipur\n\nEntries Will be accepted up to 7 pm on 31 Dec 2019\nOrganising Secretary :- Mr. Lalit Bharadia Contact no for registration :-\nRajender Arora 9352302829\nPushpender Choudhary 9414072365\nRakesh garg +91 81078 63647\nAmit Gupta :-9413349001
URL:http://cparajasthan.com/tournament/shri-maheshwari-navyuvak-mandal-open-team-chess-championship-supported-by-cpa-rajasthan/
END:VEVENT
END:VCALENDAR