BEGIN:VCALENDAR
VERSION:2.0
PRODID:-//CPA Rajasthan - ECPv4.5.4//NONSGML v1.0//EN
CALSCALE:GREGORIAN
METHOD:PUBLISH
X-WR-CALNAME:CPA Rajasthan
X-ORIGINAL-URL:http://cparajasthan.com
X-WR-CALDESC:Events for CPA Rajasthan
BEGIN:VEVENT
DTSTART;VALUE=DATE:20240505
DTEND;VALUE=DATE:20240505
DTSTAMP:20260419T192135
CREATED:20240615T082047Z
LAST-MODIFIED:20240615T082127Z
UID:2058-1714867200-1714953599@cparajasthan.com
SUMMARY:SMS MEDICAL COLLEAGE - CPA CHESS TOURNAMENT
DESCRIPTION:\n\nName of event \nSMS MEDICAL COLLEAGE - CPA CHESS TOURNAMENT \nDates \n05/05/2024\nVenue \nSMS MEDICAL COLLEGE\nEvent Coordinator\nDR. LOKENDER SHARMA\n\n\n\n\n\n\n\n
URL:http://cparajasthan.com/tournament/sms-medical-colleage-cpa-chess-tournament/
END:VEVENT
END:VCALENDAR