BEGIN:VCALENDAR
VERSION:2.0
PRODID:-//CPA Rajasthan - ECPv4.5.4//NONSGML v1.0//EN
CALSCALE:GREGORIAN
METHOD:PUBLISH
X-WR-CALNAME:CPA Rajasthan
X-ORIGINAL-URL:http://cparajasthan.com
X-WR-CALDESC:Events for CPA Rajasthan
BEGIN:VEVENT
DTSTART;VALUE=DATE:20180105
DTEND;VALUE=DATE:20180107
DTSTAMP:20260419T130454
CREATED:20171114T063625Z
LAST-MODIFIED:20180105T132225Z
UID:1155-1515110400-1515369599@cparajasthan.com
SUMMARY:GNX-CPA Open Chess Team Championship
DESCRIPTION:CPA RAJASTHAN going to welcome 2018 with\n* GNX-CPA Rajasthan Open Team Championship* in association with\n*“MPS International School“* on\nDate:5-7 Jan 2018\n👉 Event Code:- ARCA/17-18/CPA/005\n👉 Venue: *MPS International School Tilak Nagar Jaipur*\n👉 *A/C hall*\n👉 *Registration* : https://goo.gl/N9M2SL\n👉 Entry fee for teams of 4-6 players: Rs 4000/-for Corporates n Rs 2000/-for NGO/CLUBS n 1000/- for Schools and CPA Members\nFor details kindly log on www.cparajasthan.com\nwww.arca.in\n👉 Chief Arbiter:- Rajendra Teli (IA)\n👉 6Rounds. Three Day Tournament\n\nTime Control: *60Min 30 Sec*\n👉 *total Prize fund 22000 /-\, late Justice D M Bhandari Memorial running trophy for winner Team*\n(Trophies and medals for top three teams & trophies for top three on Boards and certificates to all participants)\n\n*Entry fee can be deposited only through NEFT/IMPS / Cheque / Demand Draft.*\n\n*ACCOUNT Name: Chess Parents Association Rajasthan*\n\n*ACCOUNT NO. :001205034074*\n\n*IFSC CODE: ICIC0000012*\n*ICICI Bank Ltd*\n*Ashok Marg\, Jaipur\n\nEntries Will be accepted up to 7 pm on 31 Dec 2017\ncheck Result on :-\nhttp://www.chess-results.com/tnr320498.aspx?lan=1\nContact no for registration:-\nRajender Arora 9352302829\nPushpender Choudhary\n9414072365\nRakesh Garg\n‭+91 81078 63647\nAmit Gupta\n9414042757\nLalit Bharatiya\n9829124065\n\nOrganising Secretary:-\nPriti Bhandari\n\n\nFor more information click on\nDownload PDF
URL:http://cparajasthan.com/tournament/team-chess-championship/
END:VEVENT
END:VCALENDAR